BEGIN:VCALENDAR
VERSION:2.0
PRODID:-//Department Of Education//f38a92cb-086b-4619-875d-5f176ca21707
BEGIN:VTIMEZONE
TZID:Australia/Sydney
TZURL:http://tzurl.org/zoneinfo-outlook/Australia/Sydney
X-LIC-LOCATION:Australia/Sydney
BEGIN:STANDARD
TZOFFSETFROM:+1100
TZOFFSETTO:+1000
TZNAME:AEST
DTSTART:19700405T030000
RRULE:FREQ=YEARLY;BYMONTH=4;BYDAY=1SU
END:STANDARD
BEGIN:DAYLIGHT
TZOFFSETFROM:+1000
TZOFFSETTO:+1100
TZNAME:AEDT
DTSTART:19701004T020000
RRULE:FREQ=YEARLY;BYMONTH=10;BYDAY=1SU
END:DAYLIGHT
END:VTIMEZONE
CALSCALE:GREGORIAN
X-WR-TIMEZONE:Australia/Sydney
BEGIN:VEVENT
DTSTART;VALUE=DATE:20200303
DTEND;VALUE=DATE:20200304
DTSTAMP:20200303T000000Z
UID:c074b46f-d35c-462d-b88a-9d6ddb3be612
LOCATION:Kempbridge Campus
SUMMARY;LANGUAGE=en-us:School Photo Day - Kindergarten, Year 1, 2, 5 and 6
SEQUENCE:0
DESCRIPTION:School Photo Day for Kindergarten, Year 1, Year 2, Year 5 and Year 6
END:VEVENT
TRANSP:TRANSPARENT
END:VCALENDAR
