BEGIN:VCALENDAR
VERSION:2.0
PRODID:-//Department Of Education//caa025b2-fc6a-453c-9d60-a355dbc697e0
BEGIN:VTIMEZONE
TZID:Australia/Sydney
TZURL:http://tzurl.org/zoneinfo-outlook/Australia/Sydney
X-LIC-LOCATION:Australia/Sydney
BEGIN:STANDARD
TZOFFSETFROM:+1100
TZOFFSETTO:+1000
TZNAME:AEST
DTSTART:19700405T030000
RRULE:FREQ=YEARLY;BYMONTH=4;BYDAY=1SU
END:STANDARD
BEGIN:DAYLIGHT
TZOFFSETFROM:+1000
TZOFFSETTO:+1100
TZNAME:AEDT
DTSTART:19701004T020000
RRULE:FREQ=YEARLY;BYMONTH=10;BYDAY=1SU
END:DAYLIGHT
END:VTIMEZONE
CALSCALE:GREGORIAN
X-WR-TIMEZONE:Australia/Sydney
BEGIN:VEVENT
DTSTART;VALUE=DATE:20200305
DTEND;VALUE=DATE:20200306
DTSTAMP:20200305T000000Z
UID:1bdf9218-5c3e-4d98-80b6-9b7ce6532707
LOCATION:Yatama Campus
SUMMARY;LANGUAGE=en-us:School Photo Day - Year 3 and 4
SEQUENCE:0
DESCRIPTION:School Photo Day - Year 3 and Year 4
END:VEVENT
TRANSP:TRANSPARENT
END:VCALENDAR
