BEGIN:VCALENDAR
VERSION:2.0
PRODID:-//Department Of Education//7fe049c3-de04-4c21-9c4a-0fe851d0f945
BEGIN:VTIMEZONE
TZID:Australia/Sydney
TZURL:http://tzurl.org/zoneinfo-outlook/Australia/Sydney
X-LIC-LOCATION:Australia/Sydney
BEGIN:STANDARD
TZOFFSETFROM:+1100
TZOFFSETTO:+1000
TZNAME:AEST
DTSTART:19700405T030000
RRULE:FREQ=YEARLY;BYMONTH=4;BYDAY=1SU
END:STANDARD
BEGIN:DAYLIGHT
TZOFFSETFROM:+1000
TZOFFSETTO:+1100
TZNAME:AEDT
DTSTART:19701004T020000
RRULE:FREQ=YEARLY;BYMONTH=10;BYDAY=1SU
END:DAYLIGHT
END:VTIMEZONE
CALSCALE:GREGORIAN
X-WR-TIMEZONE:Australia/Sydney
BEGIN:VEVENT
DTSTART;VALUE=DATE:20200309
DTEND;VALUE=DATE:20200310
DTSTAMP:20200309T000000Z
UID:6219a134-cc32-4da3-ad92-79412eba207d
LOCATION:Manly Andrew 'Boy' Charlton Aquatic Centre
SUMMARY;LANGUAGE=en-us:School Swimming Carnival
SEQUENCE:0
DESCRIPTION:School Swimming Carnival - Year 3-6, Year 2 students born in 2012 (turning 8 this year) are also invited to compete
END:VEVENT
TRANSP:TRANSPARENT
END:VCALENDAR
