BEGIN:VCALENDAR
VERSION:2.0
PRODID:-//Department Of Education//634546a8-bc23-4be1-b5c1-5f2800431d55
BEGIN:VTIMEZONE
TZID:Australia/Sydney
TZURL:http://tzurl.org/zoneinfo-outlook/Australia/Sydney
X-LIC-LOCATION:Australia/Sydney
BEGIN:STANDARD
TZOFFSETFROM:+1100
TZOFFSETTO:+1000
TZNAME:AEST
DTSTART:19700405T030000
RRULE:FREQ=YEARLY;BYMONTH=4;BYDAY=1SU
END:STANDARD
BEGIN:DAYLIGHT
TZOFFSETFROM:+1000
TZOFFSETTO:+1100
TZNAME:AEDT
DTSTART:19701004T020000
RRULE:FREQ=YEARLY;BYMONTH=10;BYDAY=1SU
END:DAYLIGHT
END:VTIMEZONE
CALSCALE:GREGORIAN
X-WR-TIMEZONE:Australia/Sydney
BEGIN:VEVENT
DTSTART;VALUE=DATE:20200316
DTEND;VALUE=DATE:20200317
DTSTAMP:20200316T000000Z
UID:0c3e82da-ea84-4098-b8f0-1d852a7abc97
LOCATION:Great Aussie Bush Camp
SUMMARY;LANGUAGE=en-us:Year 5 and Year 6 Camp
RRULE:FREQ=DAILY;INTERVAL=1;UNTIL=20200318;
SEQUENCE:0
DESCRIPTION:Year 5 and Year 6 Camp
END:VEVENT
TRANSP:TRANSPARENT
END:VCALENDAR
